Workbook

Sheet RESUMO
A1: RESUMO DA PLANILHA COMPARATIVA DE CUSTOS
A2: AMBIENTE ON-PREMISE (NA EMPRESA) | J2: AMBIENTE EM NUVEM (CLOUD)
B7: Hardware | D7: Software | F7: Mensal (36 meses) | H7: On-Premise – Total | K7: Implantação | M7: Mensal (36 meses) | O7: Nuvem – Total
B8: =DATACOR!D18 -> 114517 | D8: =DATACOR!D26 -> 15000 | F8: =DATACOR!D38 -> 30600 | H8: =B8+D8+F8 -> 160117 | K8: =DATACOR!D53 -> 0 | M8: =DATACOR!D54 -> 88560 | O8: =K8+M8 -> 88560

Sheet DATACOR
A1: PLANILHA COMPARATIVA DE CUSTOS
A2: SIMULAÇÃO DE VALORES PARA AMBIENTE FORA DA NUVEM – ON-PREMISE (NA EMPRESA)
A3: Valores apenas como referência, baseando num investimento para 3 anos (36 meses)
A4: EQUIPAMENTOS NECESSÁRIOS
A5: HARDWARES
A6: Descrição | B6: Qtd | C6: Valor Unitário | D6: Valor Total
A7: Servidores (hardware) | B7: 1 | C7: 50517 | D7: =C7*B7 -> 50517
A8: Infraestrutura de rede (cabos e conectores) | B8: 0 | C8: 3000 | D8: =C8*B8 -> 0
A9: Switch 24 portas GigaBit Gerenciável | B9: 0 | C9: 3000 | D9: =C9*B9 -> 0
A10: Rack (para colocar os Servidor (es) | B10: 0 | C10: 5000 | D10: =C10*B10 -> 0
A11: No-break | B11: 1 | C11: 10000 | D11: =C11*B11 -> 10000
A12: Gerador (diesel ou gasolina) | B12: 0 | C12: 40000 | D12: =C12*B12 -> 0
A13: Sistema de Climatização (Ar Condicionado) | B13: 0 | C13: 5000 | D13: =C13*B13 -> 0
A14: Segurança Física e Equipamentos (trancas, sistemas de segurança) | B14: 0 | C14: 2000 | D14: =C14*B14 -> 0
A15: Unidade de Backup / SERVIDOR (storage) | B15: 0 | C15: 50000 | D15: =C15*B15 -> 0
A16: Sistema de Backup e Software específico para Gestão do Backup | B16: 1 | C16: 54000 | D16: =C16*B16 -> 54000
A17: Firewall (proteção lógica da rede) | B17: 0 | C17: 5500 | D17: =C17*B17 -> 0
B18: Total Hardwares | D18: =SUM(D7:D17) -> 114517
A20: SOFTWARE
A21: Estrutura interna | B21: Qtd | C21: Valor unitário | D21: Valor total
A22: Licença Windows Server | B22: 0 | C22: 15716 | D22: =C22*B22 -> 0
A23: CAL WINDOWS SERVER | B23: 0 | C23: 290 | D23: =C23*B23 -> 0
A24: Licença de Virtualização por processador | B24: 0 | C24: 6000 | D24: =C24*B24 -> 0
A25: Serviços de Implementação do Ambiente | B25: 1 | C25: 15000 | D25: =C25*B25 -> 15000
B26: Total Software | D26: =SUM(D22:D25) -> 15000
A28: Custo Total Inicial - Instalações (Ativo Imobilizado) | D28: =D26+D18 -> 129517
A30: DESPESAS MENSAIS
B31: Meses | C31: Mensal | D31: 36 meses
A32: Estrutura Física (Predial) | B32: 0 | C32: 250 | D32: =C32*B32 -> 0
A33: Segurança Física - Pessoal | B33: 0 | C33: 300 | D33: =C33*B33 -> 0
A34: Link de Internet 50Mb Dedicado | B34: 36 | C34: 850 | D34: =C34*B34 -> 30600
A35: Manutenção / Gerenciamento | B35: 0 | C35: 800 | D35: =C35*B35 -> 0
A36: Energia Elétrica | B36: 0 | C36: 1000 | D36: =C36*B36 -> 0
A37: Custo de Depreciação | B37: 0 | C37: 150 | D37: =C37*B37 -> 0
A38: Custo Total Despesas – Serviços Mensais | C38: =SUM(C32:C37) -> 3350 | D38: =SUM(D32:D37) -> 30600
A41: RESUMO DO INVESTIMENTO PARA HOSPEDAGEM INTERNA
A42: =A28 -> Custo Total Inicial - Instalações (Ativo Imobilizado) | D42: =D28 -> 129517
A43: Custo Total de Investimentos para Hospedagem Interna | D43: =D38 -> 30600
A44: Total em 36 meses | D44: =D42+D43 -> 160117
A47: AMBIENTE EM NUVEM (CLOUD)
...
